BEGIN:VCALENDAR
VERSION:2.0
PRODID:-//Plone.org//NONSGML plone.app.event//EN
X-WR-TIMEZONE:Europe/Madrid
BEGIN:VEVENT
SUMMARY:Festa Country
DTSTART;TZID=Europe/Madrid;VALUE=DATE-TIME:20181209T190000
DTEND;TZID=Europe/Madrid;VALUE=DATE-TIME:20181209T200000
DTSTAMP;VALUE=DATE-TIME:20260419T153051Z
UID:3b6b848739f5aa83871a6bd47f8ac969
CREATED;VALUE=DATE-TIME:20181209T000000Z
CATEGORIES:Música
LOCATION:Ateneu Arenyenc - Anselm Clavé, 22
ORGANIZER:Ateneu Arenyenc
DESCRIPTION:Ball obert en benefici de la Marató 2018
URL:https://arenysdemar.cat/document.php?id=35854
END:VEVENT
END:VCALENDAR