BEGIN:VCALENDAR
VERSION:2.0
PRODID:-//Plone.org//NONSGML plone.app.event//EN
X-WR-TIMEZONE:Europe/Madrid
BEGIN:VEVENT
SUMMARY:Ball Espectacle Nadalenc
DTSTART;TZID=Europe/Madrid;VALUE=DATE-TIME:20181209T123000
DTEND;TZID=Europe/Madrid;VALUE=DATE-TIME:20181209T133000
DTSTAMP;VALUE=DATE-TIME:20260424T000648Z
UID:406cb0c485d134942e2aca84c72a2b78
CREATED;VALUE=DATE-TIME:20181209T000000Z
CATEGORIES:Dansa
LOCATION:Plaça de l'Església - Plaça de l'Església
ORGANIZER:Escola d'Arts Escèniques Z22
DESCRIPTION:Exhibició de l'imaginari de Nadal
URL:https://arenysdemar.cat/document.php?id=35885
END:VEVENT
END:VCALENDAR