BEGIN:VCALENDAR
VERSION:2.0
PRODID:-//Plone.org//NONSGML plone.app.event//EN
X-WR-TIMEZONE:Europe/Madrid
BEGIN:VEVENT
SUMMARY:Taller de Gestió de conflictes, límits i educació dins de casa
DTSTART;TZID=Europe/Madrid;VALUE=DATE-TIME:20181212T183000
DTEND;TZID=Europe/Madrid;VALUE=DATE-TIME:20181212T193000
DTSTAMP;VALUE=DATE-TIME:20260423T132948Z
UID:a2b359e51e433f95e60352867324328d
CREATED;VALUE=DATE-TIME:20181212T000000Z
CATEGORIES:Conferència
LOCATION:Institut Els Tres Turons
ORGANIZER:Ajuntament d'Arenys de Mar i Institut Els Tres Turons
DESCRIPTION:Entre pares/mares i fills/filles
URL:https://arenysdemar.cat/document.php?id=35894
END:VEVENT
END:VCALENDAR