BEGIN:VCALENDAR
VERSION:2.0
PRODID:-//Plone.org//NONSGML plone.app.event//EN
X-WR-TIMEZONE:Europe/Madrid
BEGIN:VEVENT
SUMMARY:La dama de piques de Pyotr Ilyich Tchaikovsky
DTSTART;TZID=Europe/Madrid;VALUE=DATE-TIME:20190122T194500
DTEND;TZID=Europe/Madrid;VALUE=DATE-TIME:20190122T204500
DTSTAMP;VALUE=DATE-TIME:20260422T182546Z
UID:9fc48c3c7a4a9a7f2d2c383f66bc38bb
CREATED;VALUE=DATE-TIME:20190122T000000Z
CATEGORIES:Cinema,Música
LOCATION:Teatre Principal - C. Església, 45-47
ORGANIZER:Societat Coral l'Esperança i Regidoria de Cultura
COMMENT:Preu: 17 euros a taquilla i 15 euros anticipada
DESCRIPTION:Retransmissió en directe de l'Opera House de Londres
URL:https://arenysdemar.cat/document.php?id=35906
END:VEVENT
END:VCALENDAR