BEGIN:VCALENDAR
VERSION:2.0
PRODID:-//Plone.org//NONSGML plone.app.event//EN
X-WR-TIMEZONE:Europe/Madrid
BEGIN:VEVENT
SUMMARY:Guyi Guyi
DTSTART;TZID=Europe/Madrid;VALUE=DATE-TIME:20190217T180000
DTEND;TZID=Europe/Madrid;VALUE=DATE-TIME:20190217T190000
DTSTAMP;VALUE=DATE-TIME:20260422T183937Z
UID:7472afb4dd3b76f722814145ce80d1e5
CREATED;VALUE=DATE-TIME:20190217T000000Z
CATEGORIES:Infantils
LOCATION:Teatre Principal - C. Església, 45-47
ORGANIZER:Societat Coral l'Esperança i Regidoria de Cultura
COMMENT:Preu: 7 euros taquilla i 6 euros anticipada
DESCRIPTION:a càrrec de la Cia. Periferia Teatro de Títeres
URL:https://arenysdemar.cat/document.php?id=35909
END:VEVENT
END:VCALENDAR