BEGIN:VCALENDAR
VERSION:2.0
PRODID:-//Plone.org//NONSGML plone.app.event//EN
X-WR-TIMEZONE:Europe/Madrid
BEGIN:VEVENT
SUMMARY:Només una vegada de Marta Buchaca
DTSTART;TZID=Europe/Madrid;VALUE=DATE-TIME:20190224T190000
DTEND;TZID=Europe/Madrid;VALUE=DATE-TIME:20190224T200000
DTSTAMP;VALUE=DATE-TIME:20260422T182216Z
UID:5c0c7df0263e9f8997089a7c57d8b791
CREATED;VALUE=DATE-TIME:20190224T000000Z
CATEGORIES:Teatre
LOCATION:Teatre Principal - C. Església, 45-47
ORGANIZER:Societat Coral l'Esperança i Regidoria de Cultura
COMMENT:Preu: 17 euros taquilla i 15 euros anticipada
URL:https://arenysdemar.cat/document.php?id=35911
END:VEVENT
END:VCALENDAR