BEGIN:VCALENDAR
VERSION:2.0
PRODID:-//Plone.org//NONSGML plone.app.event//EN
X-WR-TIMEZONE:Europe/Madrid
BEGIN:VEVENT
SUMMARY:Sortida a la neu
DTSTART;TZID=Europe/Madrid;VALUE=DATE-TIME:20190119T051500
DTEND;TZID=Europe/Madrid;VALUE=DATE-TIME:20190119T061500
DTSTAMP;VALUE=DATE-TIME:20260422T221658Z
UID:74bb4609a3b4b591ef6f06af9fdc37dd
CREATED;VALUE=DATE-TIME:20190119T000000Z
CATEGORIES:Esports
LOCATION:Parada Bus - C.C. Calisay
ORGANIZER:Associació Ski Arenys
COMMENT:Preu: A partir de 95 euros
Durada: També el 20 de gener de 2019
DESCRIPTION:Un cap de setmana a Espot Esquí
URL:https://arenysdemar.cat/document.php?id=35918
END:VEVENT
END:VCALENDAR