BEGIN:VCALENDAR
VERSION:2.0
PRODID:-//Plone.org//NONSGML plone.app.event//EN
X-WR-TIMEZONE:Europe/Madrid
BEGIN:VEVENT
SUMMARY:Tobogan de gel
DTSTART;TZID=Europe/Madrid;VALUE=DATE-TIME:20181214T180000
DTEND;TZID=Europe/Madrid;VALUE=DATE-TIME:20181214T190000
DTSTAMP;VALUE=DATE-TIME:20260423T200757Z
UID:05faaf9749877792aa2a7a0ba07d6978
CREATED;VALUE=DATE-TIME:20181214T000000Z
CATEGORIES:Infantils
LOCATION:Riera, zona nova coberta
ORGANIZER:Regidoria de Promoció Econòmica
URL:https://arenysdemar.cat/document.php?id=35933
END:VEVENT
END:VCALENDAR