BEGIN:VCALENDAR
VERSION:2.0
PRODID:-//Plone.org//NONSGML plone.app.event//EN
X-WR-TIMEZONE:Europe/Madrid
BEGIN:VEVENT
SUMMARY:Menció especial Bernat Coll
DTSTART;TZID=Europe/Madrid;VALUE=DATE-TIME:20181223T120000
DTEND;TZID=Europe/Madrid;VALUE=DATE-TIME:20181223T130000
DTSTAMP;VALUE=DATE-TIME:20260424T043524Z
UID:388e23420c935b3bcf0d2977c0ff9481
CREATED;VALUE=DATE-TIME:20181223T000000Z
CATEGORIES:Esports
LOCATION:CE Fondo de les Creus - Fondo de les Creus, s/n
ORGANIZER:Regidoria d'Esports
URL:https://arenysdemar.cat/document.php?id=35934
END:VEVENT
END:VCALENDAR