BEGIN:VCALENDAR
VERSION:2.0
PRODID:-//Plone.org//NONSGML plone.app.event//EN
X-WR-TIMEZONE:Europe/Madrid
BEGIN:VEVENT
SUMMARY:Campament Reial
DTSTART;TZID=Europe/Madrid;VALUE=DATE-TIME:20190102T170000
DTEND;TZID=Europe/Madrid;VALUE=DATE-TIME:20190102T180000
DTSTAMP;VALUE=DATE-TIME:20260423T121851Z
UID:885f07ee3b28e38e0222706698b66877
CREATED;VALUE=DATE-TIME:20190102T000000Z
CATEGORIES:Mostra
LOCATION:Riera, entre el carrer Montalt i el carrer Montserrat
ORGANIZER:OCR
COMMENT:Durada: fins les 8 del vespre. També els dies 3 i 4 de gener.
URL:https://arenysdemar.cat/document.php?id=35964
END:VEVENT
END:VCALENDAR