BEGIN:VCALENDAR
VERSION:2.0
PRODID:-//Plone.org//NONSGML plone.app.event//EN
X-WR-TIMEZONE:Europe/Madrid
BEGIN:VEVENT
SUMMARY:Club de Lectura. Llegir el teatre: Afanys d'amor perduts, de W. Shakespeare
DTSTART;TZID=Europe/Madrid;VALUE=DATE-TIME:20190109T190000
DTEND;TZID=Europe/Madrid;VALUE=DATE-TIME:20190109T200000
DTSTAMP;VALUE=DATE-TIME:20260420T185154Z
UID:69fa124de0901d933c647233dc200ba6
CREATED;VALUE=DATE-TIME:20190109T000000Z
CATEGORIES:Literatura,Teatre
LOCATION:Sala d'Actes de la Biblioteca - C. Bonaire, 3
ORGANIZER:Biblioteca - Regidoria de Cultura
COMMENT:Preu: Inscripcions a la Biblioteca - Places limitades
DESCRIPTION:a càrrec de Roger Pou
URL:https://arenysdemar.cat/document.php?id=35975
END:VEVENT
END:VCALENDAR