BEGIN:VCALENDAR
VERSION:2.0
PRODID:-//Plone.org//NONSGML plone.app.event//EN
X-WR-TIMEZONE:Europe/Madrid
BEGIN:VEVENT
SUMMARY:Modernitat amagada_Pavelló Sert. Comissariat per Domènec i Dani Montlleó.
DTSTART;TZID=Europe/Madrid;VALUE=DATE-TIME:20190102T000000
DTEND;TZID=Europe/Madrid;VALUE=DATE-TIME:20190102T010000
DTSTAMP;VALUE=DATE-TIME:20260425T154631Z
UID:e475477d238861e711706fcb6b020b77
CREATED;VALUE=DATE-TIME:20190102T000000Z
CATEGORIES:Exposició
LOCATION:MAC Espai. Carrer d'en Palau, 32 - Mataró
ORGANIZER:ACM en col·laboració amb MAC Mataró Art Comtempori i el Centre Espriu de l'Ajuntament d'Arenys de Mar
COMMENT:Durada: Del 24 de novembre de 2018 al 3 de febrer de 2019.
DESCRIPTION:Successives intervencions artístiques obra de Xavier Arenós, Regina Giménez, Irene Bou, Irena Visa, Jordi Cuyàs i Dani Montlleó.
URL:https://arenysdemar.cat/document.php?id=36000
END:VEVENT
END:VCALENDAR