BEGIN:VCALENDAR
VERSION:2.0
PRODID:-//Plone.org//NONSGML plone.app.event//EN
X-WR-TIMEZONE:Europe/Madrid
BEGIN:VEVENT
SUMMARY:Bolets al Mercat
DTSTART;TZID=Europe/Madrid;VALUE=DATE-TIME:20191129T200000
DTEND;TZID=Europe/Madrid;VALUE=DATE-TIME:20191129T210000
DTSTAMP;VALUE=DATE-TIME:20260423T150657Z
UID:7594e77c0ca9360b350decd80c44a65b
CREATED;VALUE=DATE-TIME:20191129T000000Z
CATEGORIES:Festa
LOCATION:Mercat municipal - Riera Bisbe Pol, 82
ORGANIZER:Regidoria de Promoció Econòmica
COMMENT:Durada: De 20h a 00h
URL:https://arenysdemar.cat/document.php?id=36028
END:VEVENT
END:VCALENDAR