BEGIN:VCALENDAR
VERSION:2.0
PRODID:-//Plone.org//NONSGML plone.app.event//EN
X-WR-TIMEZONE:Europe/Madrid
BEGIN:VEVENT
SUMMARY:Excursió a Igualada
DTSTART;TZID=Europe/Madrid;VALUE=DATE-TIME:20190220T080000
DTEND;TZID=Europe/Madrid;VALUE=DATE-TIME:20190220T090000
DTSTAMP;VALUE=DATE-TIME:20260421T231934Z
UID:38094593d3bf99ce0830e1e06539b35f
CREATED;VALUE=DATE-TIME:20190220T000000Z
CATEGORIES:Festa
LOCATION:Sortida davant del Calisay
ORGANIZER:Vocalia de Jubilats
COMMENT:Preu: 45 euros socis i 50 euros els no socis. Inscripcions socis dies 5 i 7 febrer i no socis dia 7
Durada: Tot el dia
URL:https://arenysdemar.cat/document.php?id=36047
END:VEVENT
END:VCALENDAR