BEGIN:VCALENDAR
VERSION:2.0
PRODID:-//Plone.org//NONSGML plone.app.event//EN
X-WR-TIMEZONE:Europe/Madrid
BEGIN:VEVENT
SUMMARY:Tertúlia de novel·la: La dona que fugia de la boira, d'Albert Llimós
DTSTART;TZID=Europe/Madrid;VALUE=DATE-TIME:20190218T190000
DTEND;TZID=Europe/Madrid;VALUE=DATE-TIME:20190218T200000
DTSTAMP;VALUE=DATE-TIME:20260424T001703Z
UID:b3e53a0c5bff0e7aedd305b70aeeb2e1
CREATED;VALUE=DATE-TIME:20190218T000000Z
CATEGORIES:Cursos,Literatura
LOCATION:Sala d'Actes de la Biblioteca - C. Bonaire, 3
ORGANIZER:Biblioteca - Regidoria de Cultura
COMMENT:Preu: Inscripcions a la Biblioteca - Places limitades
DESCRIPTION:a càrrec de Montserrat Gené
URL:https://arenysdemar.cat/document.php?id=36068
END:VEVENT
END:VCALENDAR