BEGIN:VCALENDAR
VERSION:2.0
PRODID:-//Plone.org//NONSGML plone.app.event//EN
X-WR-TIMEZONE:Europe/Madrid
BEGIN:VEVENT
SUMMARY:Converses a la carta en alemany. Gespräche nach Wahl
DTSTART;TZID=Europe/Madrid;VALUE=DATE-TIME:20190220T190000
DTEND;TZID=Europe/Madrid;VALUE=DATE-TIME:20190220T200000
DTSTAMP;VALUE=DATE-TIME:20260421T183940Z
UID:d66b58447bd70d1cc450a8ecad8608f0
CREATED;VALUE=DATE-TIME:20190220T000000Z
CATEGORIES:Cursos
LOCATION:Biblioteca - Bonaire, 2
ORGANIZER:Biblioteca - Regidoria de Cultura
COMMENT:Preu: Inscripcions a la Biblioteca - Places limitades
DESCRIPTION:a càrrec d'Eva Puigventós
URL:https://arenysdemar.cat/document.php?id=36071
END:VEVENT
END:VCALENDAR