BEGIN:VCALENDAR
VERSION:2.0
PRODID:-//Plone.org//NONSGML plone.app.event//EN
X-WR-TIMEZONE:Europe/Madrid
BEGIN:VEVENT
SUMMARY:Fira de Nadal
DTSTART;TZID=Europe/Madrid;VALUE=DATE-TIME:20191215T100000
DTEND;TZID=Europe/Madrid;VALUE=DATE-TIME:20191215T110000
DTSTAMP;VALUE=DATE-TIME:20260423T145352Z
UID:7c3fbc95ad75ce19c3030f9d1eae9dc3
CREATED;VALUE=DATE-TIME:20191215T000000Z
CATEGORIES:Mostra
LOCATION:Plaça de l'Església - Plaça de l'Església
ORGANIZER:Associació Fira del Solstici
URL:https://arenysdemar.cat/document.php?id=36078
END:VEVENT
END:VCALENDAR