BEGIN:VCALENDAR
VERSION:2.0
PRODID:-//Plone.org//NONSGML plone.app.event//EN
X-WR-TIMEZONE:Europe/Madrid
BEGIN:VEVENT
SUMMARY:Hora del conte
DTSTART;TZID=Europe/Madrid;VALUE=DATE-TIME:20190221T180000
DTEND;TZID=Europe/Madrid;VALUE=DATE-TIME:20190221T190000
DTSTAMP;VALUE=DATE-TIME:20260421T183955Z
UID:7d1df4ac8b77fde1929cf0799c08b5ae
CREATED;VALUE=DATE-TIME:20190221T000000Z
CATEGORIES:Infantils
LOCATION:Sala d'Actes de la Biblioteca - C. Bonaire, 3
ORGANIZER:Biblioteca - Regidoria de Cultura
COMMENT:Preu: Edat recomanada: a partir de 4 anys
URL:https://arenysdemar.cat/document.php?id=36097
END:VEVENT
END:VCALENDAR