BEGIN:VCALENDAR
VERSION:2.0
PRODID:-//Plone.org//NONSGML plone.app.event//EN
X-WR-TIMEZONE:Europe/Madrid
BEGIN:VEVENT
SUMMARY:Taller de gestió de conflictes en l'àmbit familiar
DTSTART;TZID=Europe/Madrid;VALUE=DATE-TIME:20190126T110000
DTEND;TZID=Europe/Madrid;VALUE=DATE-TIME:20190126T120000
DTSTAMP;VALUE=DATE-TIME:20260424T053339Z
UID:11a493f50b3352835d901c3496d193eb
CREATED;VALUE=DATE-TIME:20190126T000000Z
CATEGORIES:Cursos
LOCATION:Sala Noble del C.C.Calisay - Riera Pare Fita, 31
ORGANIZER:Regidoria de Participació amb la col·laboració del Servei Itinerant de Mediació de la Diputació de Barcelona
DESCRIPTION:En motiu del Dia Internacional de la Mediació
URL:https://arenysdemar.cat/document.php?id=36104
END:VEVENT
END:VCALENDAR