BEGIN:VCALENDAR
VERSION:2.0
PRODID:-//Plone.org//NONSGML plone.app.event//EN
X-WR-TIMEZONE:Europe/Madrid
BEGIN:VEVENT
SUMMARY:Sortida comitiva fúnebre
DTSTART;TZID=Europe/Madrid;VALUE=DATE-TIME:20190306T190000
DTEND;TZID=Europe/Madrid;VALUE=DATE-TIME:20190306T200000
DTSTAMP;VALUE=DATE-TIME:20260424T114145Z
UID:58796c21a5cafd0290c5bc70c10a435e
CREATED;VALUE=DATE-TIME:20190306T000000Z
CATEGORIES:Festa
LOCATION:Plaça de l'Església - Plaça de l'Església
ORGANIZER:Grup de Teatre del Seràfics i Regidoria de Festes
DESCRIPTION:Aplec de ploraneres i sardinetes
URL:https://arenysdemar.cat/document.php?id=36128
END:VEVENT
END:VCALENDAR