BEGIN:VCALENDAR
VERSION:2.0
PRODID:-//Plone.org//NONSGML plone.app.event//EN
X-WR-TIMEZONE:Europe/Madrid
BEGIN:VEVENT
SUMMARY:Lectura del testament d'en Carnestoltes
DTSTART;TZID=Europe/Madrid;VALUE=DATE-TIME:20190306T193000
DTEND;TZID=Europe/Madrid;VALUE=DATE-TIME:20190306T203000
DTSTAMP;VALUE=DATE-TIME:20260423T195014Z
UID:c0bb33475afd8dcf676b37add8f5b55a
CREATED;VALUE=DATE-TIME:20190306T000000Z
CATEGORIES:Festa
LOCATION:Pati del C.C.Calisay - Riera del Pare Fita, 31
ORGANIZER:Grup de teatre del Seràfics i Regidoria de Festes
URL:https://arenysdemar.cat/document.php?id=36129
END:VEVENT
END:VCALENDAR