BEGIN:VCALENDAR
VERSION:2.0
PRODID:-//Plone.org//NONSGML plone.app.event//EN
X-WR-TIMEZONE:Europe/Madrid
BEGIN:VEVENT
SUMMARY:Ball de Carnaval
DTSTART;TZID=Europe/Madrid;VALUE=DATE-TIME:20190302T230000
DTEND;TZID=Europe/Madrid;VALUE=DATE-TIME:20190303T000000
DTSTAMP;VALUE=DATE-TIME:20260424T010224Z
UID:227dd4b1b00670ee372e95b3c442cfb0
CREATED;VALUE=DATE-TIME:20190302T000000Z
CATEGORIES:Festa
LOCATION:Sala Polivalent del C.C.Calisay - Riera Pare Fita, 31
ORGANIZER:Arenys Bàsquet. Col·labora Regidoria de Festes
COMMENT:Preu: Entrada lliure. Aforament limitat.
DESCRIPTION:Dj, Karaoke, Photomaton... i molta diversió. NO T'HO PERDIS!!
URL:https://arenysdemar.cat/document.php?id=36163
END:VEVENT
END:VCALENDAR