BEGIN:VCALENDAR
VERSION:2.0
PRODID:-//Plone.org//NONSGML plone.app.event//EN
X-WR-TIMEZONE:Europe/Madrid
BEGIN:VEVENT
SUMMARY:Ball del dissabte
DTSTART;TZID=Europe/Madrid;VALUE=DATE-TIME:20190323T223000
DTEND;TZID=Europe/Madrid;VALUE=DATE-TIME:20190323T233000
DTSTAMP;VALUE=DATE-TIME:20260421T232628Z
UID:a581776058720b8d44689b71bf92115f
CREATED;VALUE=DATE-TIME:20190323T000000Z
CATEGORIES:Música
LOCATION:Ateneu Arenyenc - Anselm Clavé, 22
COMMENT:Preu: Soci 5 euros i no soci 7 euros
DESCRIPTION:amb l'actuació del Duet Dominó
URL:https://arenysdemar.cat/document.php?id=36181
END:VEVENT
END:VCALENDAR