BEGIN:VCALENDAR
VERSION:2.0
PRODID:-//Plone.org//NONSGML plone.app.event//EN
X-WR-TIMEZONE:Europe/Madrid
BEGIN:VEVENT
SUMMARY:Sortida a Porté-Puymorens
DTSTART;TZID=Europe/Madrid;VALUE=DATE-TIME:20190302T060000
DTEND;TZID=Europe/Madrid;VALUE=DATE-TIME:20190302T070000
DTSTAMP;VALUE=DATE-TIME:20260420T120248Z
UID:c8a457aba9497ddc4d622078dbe0aea8
CREATED;VALUE=DATE-TIME:20190302T000000Z
CATEGORIES:Esports
LOCATION:Parada Bus C.C. Calisay
ORGANIZER:Associació Ski Arenys
COMMENT:Preu: 114 euros
Durada: També el 3 de març
DESCRIPTION:Cap de setmana a Porté-Puymorens
URL:https://arenysdemar.cat/document.php?id=36187
END:VEVENT
END:VCALENDAR