BEGIN:VCALENDAR
VERSION:2.0
PRODID:-//Plone.org//NONSGML plone.app.event//EN
X-WR-TIMEZONE:Europe/Madrid
BEGIN:VEVENT
SUMMARY:Fira de brocanters i del col·leccionisme
DTSTART;TZID=Europe/Madrid;VALUE=DATE-TIME:20191013T090000
DTEND;TZID=Europe/Madrid;VALUE=DATE-TIME:20191013T100000
DTSTAMP;VALUE=DATE-TIME:20260420T183915Z
UID:216ef27a8780e2d7343185fc1fe2f74a
CREATED;VALUE=DATE-TIME:20191013T000000Z
CATEGORIES:Mostra
LOCATION:Riera, davant del C.C. Calisay
ORGANIZER:Associació Col·leccionisme Nou i Vell
COMMENT:Durada: Matí
URL:https://arenysdemar.cat/document.php?id=36203
END:VEVENT
END:VCALENDAR