BEGIN:VCALENDAR
VERSION:2.0
PRODID:-//Plone.org//NONSGML plone.app.event//EN
X-WR-TIMEZONE:Europe/Madrid
BEGIN:VEVENT
SUMMARY:Conferència de Món Actual: Lesbos, el naufragi de l'Europa dels valors
DTSTART;TZID=Europe/Madrid;VALUE=DATE-TIME:20190305T180000
DTEND;TZID=Europe/Madrid;VALUE=DATE-TIME:20190305T190000
DTSTAMP;VALUE=DATE-TIME:20260424T100153Z
UID:5b287baedaa43f83957f7039bd273fb9
CREATED;VALUE=DATE-TIME:20190305T000000Z
CATEGORIES:Conferència
LOCATION:Sala Josep Maria Arnau del C.C.Calisay - Riera del Pare Fita, 31
ORGANIZER:Aula d'Extensió Universitària
DESCRIPTION:a càrrec de Lluís Caelles, periodista de TV3
URL:https://arenysdemar.cat/document.php?id=36210
END:VEVENT
END:VCALENDAR