BEGIN:VCALENDAR
VERSION:2.0
PRODID:-//Plone.org//NONSGML plone.app.event//EN
X-WR-TIMEZONE:Europe/Madrid
BEGIN:VEVENT
SUMMARY:Portes Obertes a Infantil del Col·legi La Presentació
DTSTART;TZID=Europe/Madrid;VALUE=DATE-TIME:20190316T110000
DTEND;TZID=Europe/Madrid;VALUE=DATE-TIME:20190316T120000
DTSTAMP;VALUE=DATE-TIME:20260420T202956Z
UID:f3e256f75824a466a5125aa66657cfee
CREATED;VALUE=DATE-TIME:20190316T000000Z
CATEGORIES:Mostra
LOCATION:Col·legi La Presentació (Teatre-auditori)
ORGANIZER:Col·legi La Presentació
URL:https://arenysdemar.cat/document.php?id=36254
END:VEVENT
END:VCALENDAR