BEGIN:VCALENDAR
VERSION:2.0
PRODID:-//Plone.org//NONSGML plone.app.event//EN
X-WR-TIMEZONE:Europe/Madrid
BEGIN:VEVENT
SUMMARY:Conferència: Fèlix Cucurull i la política
DTSTART;TZID=Europe/Madrid;VALUE=DATE-TIME:20190323T190000
DTEND;TZID=Europe/Madrid;VALUE=DATE-TIME:20190323T200000
DTSTAMP;VALUE=DATE-TIME:20260422T054703Z
UID:61977a2e5da3593112c3360f4d18123e
CREATED;VALUE=DATE-TIME:20190323T000000Z
CATEGORIES:Literatura,Conferència
LOCATION:Sala Josep Maria Arnau del C.C.Calisay - Riera del Pare Fita, 31
ORGANIZER:Comissió Any Cucurull 1919-2019
DESCRIPTION:a càrrec de J.Lluís Carod Rovira, ex-vicepresident del Govern de la Generalitat. Presenta: Marta Pérez, periodista
URL:https://arenysdemar.cat/document.php?id=36272
END:VEVENT
END:VCALENDAR