BEGIN:VCALENDAR
VERSION:2.0
PRODID:-//Plone.org//NONSGML plone.app.event//EN
X-WR-TIMEZONE:Europe/Madrid
BEGIN:VEVENT
SUMMARY:Ball del dissabte
DTSTART;TZID=Europe/Madrid;VALUE=DATE-TIME:20190504T223000
DTEND;TZID=Europe/Madrid;VALUE=DATE-TIME:20190504T233000
DTSTAMP;VALUE=DATE-TIME:20260421T004624Z
UID:6711119ca5a16cbe82834d49e99406a0
CREATED;VALUE=DATE-TIME:20190504T000000Z
CATEGORIES:Música
LOCATION:Ateneu Arenyenc - Anselm Clavé, 22
ORGANIZER:Ateneu Arenyenc
COMMENT:Preu: Soci 5 euros i no soci 7 euros
DESCRIPTION:a càrrec de Xarop de Nit
URL:https://arenysdemar.cat/document.php?id=36278
END:VEVENT
END:VCALENDAR