BEGIN:VCALENDAR
VERSION:2.0
PRODID:-//Plone.org//NONSGML plone.app.event//EN
X-WR-TIMEZONE:Europe/Madrid
BEGIN:VEVENT
SUMMARY:Passejada tranquil·la per la vida del prohom Xifré amb Ramon Verdaguer
DTSTART;TZID=Europe/Madrid;VALUE=DATE-TIME:20190314T100000
DTEND;TZID=Europe/Madrid;VALUE=DATE-TIME:20190314T110000
DTSTAMP;VALUE=DATE-TIME:20260420T164543Z
UID:6428eca3eabd75dfc75f33cb04204275
CREATED;VALUE=DATE-TIME:20190314T000000Z
CATEGORIES:Conferència
LOCATION:Sortida davant del CC Calisay
ORGANIZER:Aula Extensió Universitària
URL:https://arenysdemar.cat/document.php?id=36305
END:VEVENT
END:VCALENDAR