BEGIN:VCALENDAR
VERSION:2.0
PRODID:-//Plone.org//NONSGML plone.app.event//EN
X-WR-TIMEZONE:Europe/Madrid
BEGIN:VEVENT
SUMMARY:Parlem-ne
DTSTART;TZID=Europe/Madrid;VALUE=DATE-TIME:20190309T173000
DTEND;TZID=Europe/Madrid;VALUE=DATE-TIME:20190309T183000
DTSTAMP;VALUE=DATE-TIME:20260424T005559Z
UID:d07b5932cfd3c72d10135472fcf3130e
CREATED;VALUE=DATE-TIME:20190309T000000Z
LOCATION:Espai Jove del C.C.Calisay - Riera del Pare Fita, 31
ORGANIZER:Espai jove
URL:https://arenysdemar.cat/document.php?id=36306
END:VEVENT
END:VCALENDAR