BEGIN:VCALENDAR
VERSION:2.0
PRODID:-//Plone.org//NONSGML plone.app.event//EN
X-WR-TIMEZONE:Europe/Madrid
BEGIN:VEVENT
SUMMARY:Hora del conte per als més petits: L'oca Clara i l'òs més gran del món
DTSTART;TZID=Europe/Madrid;VALUE=DATE-TIME:20190328T180000
DTEND;TZID=Europe/Madrid;VALUE=DATE-TIME:20190328T190000
DTSTAMP;VALUE=DATE-TIME:20260423T214721Z
UID:2b32cc7508197d6755061f3a81a0a042
CREATED;VALUE=DATE-TIME:20190328T000000Z
CATEGORIES:Infantils
LOCATION:Sala d'Actes de la Biblioteca - C. Bonaire, 3
ORGANIZER:Biblioteca - Regidoria de Cultura
COMMENT:Preu: Edat recomanada: d'1 a 4 anys.
DESCRIPTION:a càrrec de Montse Dulcet
URL:https://arenysdemar.cat/document.php?id=36317
END:VEVENT
END:VCALENDAR