BEGIN:VCALENDAR
VERSION:2.0
PRODID:-//Plone.org//NONSGML plone.app.event//EN
X-WR-TIMEZONE:Europe/Madrid
BEGIN:VEVENT
SUMMARY:Formació eBiblio: Servei de préstec de llibres electrònics
DTSTART;TZID=Europe/Madrid;VALUE=DATE-TIME:20190322T110000
DTEND;TZID=Europe/Madrid;VALUE=DATE-TIME:20190322T120000
DTSTAMP;VALUE=DATE-TIME:20260422T011457Z
UID:32f199d6072db2abf57c2654a938eb5c
CREATED;VALUE=DATE-TIME:20190322T000000Z
CATEGORIES:Cursos
LOCATION:Biblioteca - Bonaire, 2
ORGANIZER:Biblioteca - Regidoria de Cultura
COMMENT:Preu: Inscripcions a la Biblioteca - Places limitades
DESCRIPTION:a càrrec de Glòria Castilla
URL:https://arenysdemar.cat/document.php?id=36320
END:VEVENT
END:VCALENDAR