BEGIN:VCALENDAR
VERSION:2.0
PRODID:-//Plone.org//NONSGML plone.app.event//EN
X-WR-TIMEZONE:Europe/Madrid
BEGIN:VEVENT
SUMMARY:Festa al carrer Margarides
DTSTART;TZID=Europe/Madrid;VALUE=DATE-TIME:20190830T000000
DTEND;TZID=Europe/Madrid;VALUE=DATE-TIME:20190830T010000
DTSTAMP;VALUE=DATE-TIME:20260421T095852Z
UID:e46a059c6b2dad7f272a33eec8483150
CREATED;VALUE=DATE-TIME:20190830T000000Z
CATEGORIES:Festa
LOCATION:Carrer Margarides
ORGANIZER:Comissió de festes del carrer Margarides
COMMENT:Durada: fins al 1 de setembre
DESCRIPTION:FESTA SUSPESA
URL:https://arenysdemar.cat/document.php?id=36459
END:VEVENT
END:VCALENDAR