BEGIN:VCALENDAR
VERSION:2.0
PRODID:-//Plone.org//NONSGML plone.app.event//EN
X-WR-TIMEZONE:Europe/Madrid
BEGIN:VEVENT
SUMMARY:Festa al rial Sa Clavella
DTSTART;TZID=Europe/Madrid;VALUE=DATE-TIME:20190810T000000
DTEND;TZID=Europe/Madrid;VALUE=DATE-TIME:20190810T010000
DTSTAMP;VALUE=DATE-TIME:20260420T184042Z
UID:66e8658f697dad3ebae0238c113d30b1
CREATED;VALUE=DATE-TIME:20190810T000000Z
CATEGORIES:Festa
LOCATION:Rial Sa Clavella
ORGANIZER:Comissió de festes rial Sa Clavella
COMMENT:Durada: fins al 11 d'agost
URL:https://arenysdemar.cat/document.php?id=36461
END:VEVENT
END:VCALENDAR