BEGIN:VCALENDAR
VERSION:2.0
PRODID:-//Plone.org//NONSGML plone.app.event//EN
X-WR-TIMEZONE:Europe/Madrid
BEGIN:VEVENT
SUMMARY:Jam session de jazz
DTSTART;TZID=Europe/Madrid;VALUE=DATE-TIME:20190329T203000
DTEND;TZID=Europe/Madrid;VALUE=DATE-TIME:20190329T213000
DTSTAMP;VALUE=DATE-TIME:20260423T134106Z
UID:94f346d1a03d0fa3c4ed5d5d2842e9d8
CREATED;VALUE=DATE-TIME:20190329T000000Z
CATEGORIES:Música
LOCATION:Escola de música/C.C.Calisay - Riera del Pare Fita, 31
ORGANIZER:Associació Escola de Música d'Arenys de Mar
URL:https://arenysdemar.cat/document.php?id=36502
END:VEVENT
END:VCALENDAR