BEGIN:VCALENDAR
VERSION:2.0
PRODID:-//Plone.org//NONSGML plone.app.event//EN
X-WR-TIMEZONE:Europe/Madrid
BEGIN:VEVENT
SUMMARY:29a Festa de l'arròs
DTSTART;TZID=Europe/Madrid;VALUE=DATE-TIME:20190501T110000
DTEND;TZID=Europe/Madrid;VALUE=DATE-TIME:20190501T120000
DTSTAMP;VALUE=DATE-TIME:20260420T153239Z
UID:60d04db3472628f3818ff3972fc21728
CREATED;VALUE=DATE-TIME:20190501T000000Z
CATEGORIES:Festa
LOCATION:Plaça de la Sardana
ORGANIZER:Ajuntament d'Arenys de Mar
URL:https://arenysdemar.cat/document.php?id=36591
END:VEVENT
END:VCALENDAR