BEGIN:VCALENDAR
VERSION:2.0
PRODID:-//Plone.org//NONSGML plone.app.event//EN
X-WR-TIMEZONE:Europe/Madrid
BEGIN:VEVENT
SUMMARY:Supernit a les Biblioteques
DTSTART;TZID=Europe/Madrid;VALUE=DATE-TIME:20190531T200000
DTEND;TZID=Europe/Madrid;VALUE=DATE-TIME:20190531T210000
DTSTAMP;VALUE=DATE-TIME:20260423T195842Z
UID:6bc42e6dadfa96d102f16b660a8fb879
CREATED;VALUE=DATE-TIME:20190531T000000Z
CATEGORIES:Infantils
LOCATION:Biblioteca - Bonaire, 2
ORGANIZER:Biblioteca - Regidoria de Cultura, TV3 i Servei de Biblioteques. Generalitat de Catalunya
COMMENT:Preu: Inscripcions a la Biblioteca - Places limitades
DESCRIPTION:a càrrec d'Anna Danés
URL:https://arenysdemar.cat/document.php?id=36623
END:VEVENT
END:VCALENDAR