BEGIN:VCALENDAR
VERSION:2.0
PRODID:-//Plone.org//NONSGML plone.app.event//EN
X-WR-TIMEZONE:Europe/Madrid
BEGIN:VEVENT
SUMMARY:Taller de Xampú
DTSTART;TZID=Europe/Madrid;VALUE=DATE-TIME:20190504T180000
DTEND;TZID=Europe/Madrid;VALUE=DATE-TIME:20190504T190000
DTSTAMP;VALUE=DATE-TIME:20260423T231215Z
UID:5ab937ae5c4fae791b122dacc3f7b5cb
CREATED;VALUE=DATE-TIME:20190504T000000Z
LOCATION:Espai Jove del C.C.Calisay - Riera del Pare Fita, 31
ORGANIZER:Espai Jove
URL:https://arenysdemar.cat/document.php?id=36635
END:VEVENT
END:VCALENDAR