BEGIN:VCALENDAR
VERSION:2.0
PRODID:-//Plone.org//NONSGML plone.app.event//EN
X-WR-TIMEZONE:Europe/Madrid
BEGIN:VEVENT
SUMMARY:Cinefòrum
DTSTART;TZID=Europe/Madrid;VALUE=DATE-TIME:20190510T173000
DTEND;TZID=Europe/Madrid;VALUE=DATE-TIME:20190510T183000
DTSTAMP;VALUE=DATE-TIME:20260419T174113Z
UID:73467d979702282d58939f63b4ee143f
CREATED;VALUE=DATE-TIME:20190510T000000Z
LOCATION:Espai Jove del C.C.Calisay - Riera del Pare Fita, 31
ORGANIZER:Espai Jove
URL:https://arenysdemar.cat/document.php?id=36636
END:VEVENT
END:VCALENDAR