BEGIN:VCALENDAR
VERSION:2.0
PRODID:-//Plone.org//NONSGML plone.app.event//EN
X-WR-TIMEZONE:Europe/Madrid
BEGIN:VEVENT
SUMMARY:Diumenges infantils: Inflables aquàtics i Festa de l'escuma
DTSTART;TZID=Europe/Madrid;VALUE=DATE-TIME:20190728T180000
DTEND;TZID=Europe/Madrid;VALUE=DATE-TIME:20190728T190000
DTSTAMP;VALUE=DATE-TIME:20260424T004607Z
UID:4b014754fd5b8b7b9b374b32c6837ce7
CREATED;VALUE=DATE-TIME:20190728T000000Z
CATEGORIES:Infantils
LOCATION:Riera, davant dels jardins Asil Torrent
ORGANIZER:Regidoria de Festes
DESCRIPTION:Porteu roba de bany!
URL:https://arenysdemar.cat/document.php?id=36680
END:VEVENT
END:VCALENDAR