BEGIN:VCALENDAR
VERSION:2.0
PRODID:-//Plone.org//NONSGML plone.app.event//EN
X-WR-TIMEZONE:Europe/Madrid
BEGIN:VEVENT
SUMMARY:Mostra de final de curs amb les disciplines impartides a l'Escola de Dansa Sinera
DTSTART;TZID=Europe/Madrid;VALUE=DATE-TIME:20190615T170000
DTEND;TZID=Europe/Madrid;VALUE=DATE-TIME:20190615T180000
DTSTAMP;VALUE=DATE-TIME:20260423T152257Z
UID:36a4ef47dab574c9dc816723bed70fcb
CREATED;VALUE=DATE-TIME:20190615T000000Z
CATEGORIES:Dansa
LOCATION:Teatre Principal - C. Església, 45-47
ORGANIZER:Escola de Dansa Sinera
COMMENT:Durada: També diumenge 16 a les 11 del matí. Durada aproximada 3 hores
URL:https://arenysdemar.cat/document.php?id=36707
END:VEVENT
END:VCALENDAR