BEGIN:VCALENDAR
VERSION:2.0
PRODID:-//Plone.org//NONSGML plone.app.event//EN
X-WR-TIMEZONE:Europe/Madrid
BEGIN:VEVENT
SUMMARY:Exposició fotogràfica a l'aire lliure: Mirades i Mans
DTSTART;TZID=Europe/Madrid;VALUE=DATE-TIME:20190713T000000
DTEND;TZID=Europe/Madrid;VALUE=DATE-TIME:20190713T010000
DTSTAMP;VALUE=DATE-TIME:20260420T183622Z
UID:e65e4f767d7b3e8aaa6b7525f4f13b29
CREATED;VALUE=DATE-TIME:20190713T000000Z
CATEGORIES:Exposició
LOCATION:Balcons del carrer de la Perera
ORGANIZER:Agrupació Fotogràfica d'Arenys de Mar. Amb la col·laboració dels veïns del carrer de la Perera i l'Ajuntament d'Arenys de Mar
COMMENT:Durada: Fins l'11 d'agost
DESCRIPTION:a càrrec de l'Agrupació Fotogràfica d'Arenys de Mar
URL:https://arenysdemar.cat/document.php?id=36708
END:VEVENT
END:VCALENDAR