BEGIN:VCALENDAR
VERSION:2.0
PRODID:-//Plone.org//NONSGML plone.app.event//EN
X-WR-TIMEZONE:Europe/Madrid
BEGIN:VEVENT
SUMMARY:Obra final de curs Taller de Teatre del Seràfics: Pas dels lladres
DTSTART;TZID=Europe/Madrid;VALUE=DATE-TIME:20190630T190000
DTEND;TZID=Europe/Madrid;VALUE=DATE-TIME:20190630T200000
DTSTAMP;VALUE=DATE-TIME:20260422T010441Z
UID:ff55dce52c31480eaafca344c6edcb84
CREATED;VALUE=DATE-TIME:20190630T000000Z
CATEGORIES:Teatre
LOCATION:Teatre Seràfics
ORGANIZER:Seràfics
COMMENT:Preu: 8 euros
Durada: 90 minuts
URL:https://arenysdemar.cat/document.php?id=36749
END:VEVENT
END:VCALENDAR