BEGIN:VCALENDAR
VERSION:2.0
PRODID:-//Plone.org//NONSGML plone.app.event//EN
X-WR-TIMEZONE:Europe/Madrid
BEGIN:VEVENT
SUMMARY:Concert de les Macedònia
DTSTART;TZID=Europe/Madrid;VALUE=DATE-TIME:20190707T200000
DTEND;TZID=Europe/Madrid;VALUE=DATE-TIME:20190707T210000
DTSTAMP;VALUE=DATE-TIME:20260420T102851Z
UID:88f59b00da59a9723f8e5c3b7265ef83
CREATED;VALUE=DATE-TIME:20190707T000000Z
CATEGORIES:Música
LOCATION:Plaça de l'Església - Plaça de l'Església
ORGANIZER:Consell dels Infants
DESCRIPTION:a càrrec del Grup Macedònia
URL:https://arenysdemar.cat/document.php?id=36809
END:VEVENT
END:VCALENDAR