BEGIN:VCALENDAR
VERSION:2.0
PRODID:-//Plone.org//NONSGML plone.app.event//EN
X-WR-TIMEZONE:Europe/Madrid
BEGIN:VEVENT
SUMMARY:Tricia Boutté & New Orleans Tradition
DTSTART;TZID=Europe/Madrid;VALUE=DATE-TIME:20190809T223000
DTEND;TZID=Europe/Madrid;VALUE=DATE-TIME:20190809T233000
DTSTAMP;VALUE=DATE-TIME:20260423T144817Z
UID:a04dfbd1ca8d983c03cdff798deb2266
CREATED;VALUE=DATE-TIME:20190809T000000Z
CATEGORIES:Música
LOCATION:Pati del Xifré - Auterive, s/n
ORGANIZER:Regidoria de Cultura
COMMENT:Preu: 12&euro; taquilla i 10&euro; anticipada per Internet a www.jazzarenys.cat
DESCRIPTION:28è Festival de Jazz d'Arenys de Mar
URL:https://arenysdemar.cat/document.php?id=36832
END:VEVENT
END:VCALENDAR