BEGIN:VCALENDAR
VERSION:2.0
PRODID:-//Plone.org//NONSGML plone.app.event//EN
X-WR-TIMEZONE:Europe/Madrid
BEGIN:VEVENT
SUMMARY:The Big Jamboree & Agustí Burriel
DTSTART;TZID=Europe/Madrid;VALUE=DATE-TIME:20190816T223000
DTEND;TZID=Europe/Madrid;VALUE=DATE-TIME:20190816T233000
DTSTAMP;VALUE=DATE-TIME:20260423T102937Z
UID:dcd2b68fa3587a6a3da4680fa9dde4c8
CREATED;VALUE=DATE-TIME:20190816T000000Z
CATEGORIES:Música
LOCATION:Pati del Xifré - Auterive, s/n
ORGANIZER:Regidoria de Cultura
COMMENT:Preu: 12&euro; taquilla i 10&euro; anticipada per Internet a www.jazzarenys.cat
DESCRIPTION:28è Festival de Jazz d'Arenys de Mar
URL:https://arenysdemar.cat/document.php?id=36833
END:VEVENT
END:VCALENDAR