BEGIN:VCALENDAR
VERSION:2.0
PRODID:-//Plone.org//NONSGML plone.app.event//EN
X-WR-TIMEZONE:Europe/Madrid
BEGIN:VEVENT
SUMMARY:Cercavila de macips, macipes, macipets i captadores
DTSTART;TZID=Europe/Madrid;VALUE=DATE-TIME:20190816T090000
DTEND;TZID=Europe/Madrid;VALUE=DATE-TIME:20190816T100000
DTSTAMP;VALUE=DATE-TIME:20260420T171737Z
UID:8e953378e5f1586c49285fb156f1e18d
CREATED;VALUE=DATE-TIME:20190816T000000Z
CATEGORIES:Festa
LOCATION:pels carrers i places de la vila
ORGANIZER:Patronat de Sant Roc
URL:https://arenysdemar.cat/document.php?id=36856
END:VEVENT
END:VCALENDAR