BEGIN:VCALENDAR
VERSION:2.0
PRODID:-//Plone.org//NONSGML plone.app.event//EN
X-WR-TIMEZONE:Europe/Madrid
BEGIN:VEVENT
SUMMARY:Cercavila de gegants, macips, macipes i captadores
DTSTART;TZID=Europe/Madrid;VALUE=DATE-TIME:20190816T173000
DTEND;TZID=Europe/Madrid;VALUE=DATE-TIME:20190816T183000
DTSTAMP;VALUE=DATE-TIME:20260421T184451Z
UID:f7d97f99d36921fdea427a078ab340ec
CREATED;VALUE=DATE-TIME:20190816T000000Z
CATEGORIES:Festa
LOCATION:Riera, davant la plaça de l'església
ORGANIZER:Associació de Geganters i Ajuntament d'Arenys de Mar
DESCRIPTION:Acompanyament d'autoritats a ofici
URL:https://arenysdemar.cat/document.php?id=36857
END:VEVENT
END:VCALENDAR