BEGIN:VCALENDAR
VERSION:2.0
PRODID:-//Plone.org//NONSGML plone.app.event//EN
X-WR-TIMEZONE:Europe/Madrid
BEGIN:VEVENT
SUMMARY:Xerrada mediambiental: Posidònia 2021, un projecte ciutadà
DTSTART;TZID=Europe/Madrid;VALUE=DATE-TIME:20190823T190000
DTEND;TZID=Europe/Madrid;VALUE=DATE-TIME:20190823T200000
DTSTAMP;VALUE=DATE-TIME:20260421T122241Z
UID:8725e1a1e2c65a439a85106bf93a7674
CREATED;VALUE=DATE-TIME:20190823T000000Z
CATEGORIES:Conferència
LOCATION:Biblioplatja - Platja de la Picòrdia
ORGANIZER:Biblioteca - Regidoria de Cultura i Regidoria de Medi Ambient
DESCRIPTION:a càrrec de Posidònia 2021
URL:https://arenysdemar.cat/document.php?id=36878
END:VEVENT
END:VCALENDAR